BEGIN:VCALENDAR
VERSION:2.0
PRODID:-//VSLC
CALSCALE:GREGORIAN
METHOD:PUBLISH
X-WR-CALNAME:VSLC
X-ORIGINAL-URL:https://vslc.com.vn/en/cua-hang-vslc/first-aid-courses/emergency-first-aid-hanoi-august-2022/
X-WR-CALDESC:Emergency First Aid, Hanoi
BEGIN:VEVENT
DTSTART:20220821T123000
DTEND:20220821T180000
SUMMARY:Emergency First Aid, Hanoi
DESCRIPTION:
URL:https://vslc.com.vn/en/cua-hang-vslc/first-aid-courses/emergency-first-aid-hanoi-august-2022/
LOCATION:Vietlesson, 5, ngách 15, Ngo 310 Nghi Tàm, Quảng An, Tây Hồ, Hà Nội 
END:VEVENT
END:VCALENDAR
