BEGIN:VCALENDAR
VERSION:2.0
PRODID:-//VSLC
CALSCALE:GREGORIAN
METHOD:PUBLISH
X-WR-CALNAME:VSLC
X-ORIGINAL-URL:https://vslc.com.vn/en/cua-hang-vslc/first-aid-courses/emergency-first-aid-hanoi-june-2022/
X-WR-CALDESC:Emergency First Aid, Hanoi
BEGIN:VEVENT
DTSTART:20220611T130000
DTEND:20220611T180000
SUMMARY:Emergency First Aid, Hanoi
DESCRIPTION:
URL:https://vslc.com.vn/en/cua-hang-vslc/first-aid-courses/emergency-first-aid-hanoi-june-2022/
LOCATION:The Vuon Luxury Garden, Tầng 3 - Tháp A, Phố Giảng Võ, Giảng Võ, Ba Đình, Hà Nội
END:VEVENT
END:VCALENDAR
