BEGIN:VCALENDAR
VERSION:2.0
PRODID:-//VSLC
CALSCALE:GREGORIAN
METHOD:PUBLISH
X-WR-CALNAME:VSLC
X-ORIGINAL-URL:https://vslc.com.vn/en/cua-hang-vslc/lifeguard/open-water-rescuer-da-nang-march-2021/
X-WR-CALDESC:Open Water Rescuer, Da Nang
BEGIN:VEVENT
DTSTART:20210618T083000
DTEND:20210620T170000
SUMMARY:Open Water Rescuer, Da Nang
DESCRIPTION:
URL:https://vslc.com.vn/en/cua-hang-vslc/lifeguard/open-water-rescuer-da-nang-march-2021/
LOCATION:08 Khue My Dong 5, Khue My, Da Nang
END:VEVENT
END:VCALENDAR
