BEGIN:VCALENDAR
VERSION:2.0
PRODID:-//VSLC
CALSCALE:GREGORIAN
METHOD:PUBLISH
X-WR-CALNAME:VSLC
X-ORIGINAL-URL:https://vslc.com.vn/en/cua-hang-vslc/first-aid-courses/emergency-first-aid-hcmc-jan-2021/
X-WR-CALDESC:Emergency First Aid, HCMC
BEGIN:VEVENT
DTSTART:20210417T090000
DTEND:20210417T160000
SUMMARY:Emergency First Aid, HCMC
DESCRIPTION:
URL:https://vslc.com.vn/en/cua-hang-vslc/first-aid-courses/emergency-first-aid-hcmc-jan-2021/
LOCATION:Phòng 407 (Lầu 4), Toà nhà Vietcombank, số 79 Nguyễn Đình Chiểu, P. Võ Thị Sáu, Q.3, Tp.HCM
END:VEVENT
END:VCALENDAR
