BEGIN:VCALENDAR
VERSION:2.0
PRODID:-//VSLC
CALSCALE:GREGORIAN
METHOD:PUBLISH
X-WR-CALNAME:VSLC
X-ORIGINAL-URL:https://vslc.com.vn/en/cua-hang-vslc/lifeguard/pool-rescuer-hanoi-august-2020/
X-WR-CALDESC:Pool Rescuer, Hanoi
BEGIN:VEVENT
DTSTART:20200821T000000
DTEND:20200823T000000
SUMMARY:Pool Rescuer, Hanoi
DESCRIPTION:
URL:https://vslc.com.vn/en/cua-hang-vslc/lifeguard/pool-rescuer-hanoi-august-2020/
LOCATION:Golden Palm, 21 Lê Văn Lương, Trung Hoà, Cầu Giấy, Hà Nội
END:VEVENT
END:VCALENDAR
