BEGIN:VCALENDAR
VERSION:2.0
PRODID:-//VSLC
CALSCALE:GREGORIAN
METHOD:PUBLISH
X-WR-CALNAME:VSLC
X-ORIGINAL-URL:https://vslc.com.vn/en/cua-hang-vslc/uncategorized/vslc-first-aid-trainer-workshop-da-nang-3/
X-WR-CALDESC:VSLC First Aid Trainer Workshop, Da Nang
BEGIN:VEVENT
DTSTART:20200321T000000
DTEND:20200322T000000
SUMMARY:VSLC First Aid Trainer Workshop, Da Nang
DESCRIPTION:
URL:https://vslc.com.vn/en/cua-hang-vslc/uncategorized/vslc-first-aid-trainer-workshop-da-nang-3/
LOCATION:Da Nang City
END:VEVENT
END:VCALENDAR
