BEGIN:VCALENDAR
VERSION:2.0
PRODID:-//VSLC
CALSCALE:GREGORIAN
METHOD:PUBLISH
X-WR-CALNAME:VSLC
X-ORIGINAL-URL:https://vslc.com.vn/cua-hang-vslc/cuu-ho/nhan-vien-cuu-ho-be-boi-ha-noi-thang-8-2023/
X-WR-CALDESC:Nhân viên Cứu hộ Bể bơi, Hà Nội
BEGIN:VEVENT
DTSTART:20230808T080000
DTEND:20230809T170000
SUMMARY:Nhân viên Cứu hộ Bể bơi, Hà Nội
DESCRIPTION:
URL:https://vslc.com.vn/cua-hang-vslc/cuu-ho/nhan-vien-cuu-ho-be-boi-ha-noi-thang-8-2023/
LOCATION:Golden Palm, 21 Lê Văn Lương, Trung Hoà, Cầu Giấy, Hà Nội
END:VEVENT
END:VCALENDAR
