BEGIN:VCALENDAR
VERSION:2.0
PRODID:-//VSLC
CALSCALE:GREGORIAN
METHOD:PUBLISH
X-WR-CALNAME:VSLC
X-ORIGINAL-URL:https://vslc.com.vn/cua-hang-vslc/public-courses/first-aid/khoa-hoc-so-cap-cuu-tai-ha-noi-thang-7-2023/
X-WR-CALDESC:Khóa học Sơ Cấp cứu tại Hà Nội
BEGIN:VEVENT
DTSTART:20230727T080000
DTEND:20230727T140000
SUMMARY:Khóa học Sơ Cấp cứu tại Hà Nội
DESCRIPTION:
URL:https://vslc.com.vn/cua-hang-vslc/public-courses/first-aid/khoa-hoc-so-cap-cuu-tai-ha-noi-thang-7-2023/
LOCATION:Tầng 2, nhà số 7, 1160 Đường Láng, Láng Thượng, Đống Đa, Hà Nội
END:VEVENT
END:VCALENDAR
