BEGIN:VCALENDAR
VERSION:2.0
PRODID:-//VSLC
CALSCALE:GREGORIAN
METHOD:PUBLISH
X-WR-CALNAME:VSLC
X-ORIGINAL-URL:https://vslc.com.vn/cua-hang-vslc/public-courses/first-aid/khoa-hoc-so-cap-cuu-tai-ha-noi-thang-8-2022/
X-WR-CALDESC:Khóa học Sơ Cấp cứu tại Hà Nội
BEGIN:VEVENT
DTSTART:20220821T123000
DTEND:20220821T183000
SUMMARY:Khóa học Sơ Cấp cứu tại Hà Nội
DESCRIPTION:
URL:https://vslc.com.vn/cua-hang-vslc/public-courses/first-aid/khoa-hoc-so-cap-cuu-tai-ha-noi-thang-8-2022/
LOCATION:Vietlesson, 5, ngách 15, Ngo 310 Nghi Tàm, Quảng An, Tây Hồ, Hà Nội 
END:VEVENT
END:VCALENDAR
