BEGIN:VCALENDAR
VERSION:2.0
PRODID:-//VSLC
CALSCALE:GREGORIAN
METHOD:PUBLISH
X-WR-CALNAME:VSLC
X-ORIGINAL-URL:https://vslc.com.vn/cua-hang-vslc/public-courses/first-aid/khoa-hoc-so-cap-cuu-tai-hcmc-thang-8-2022/
X-WR-CALDESC:Khóa học Sơ Cấp cứu tại HCMC
BEGIN:VEVENT
DTSTART:20220911T090000
DTEND:20220911T160000
SUMMARY:Khóa học Sơ Cấp cứu tại HCMC
DESCRIPTION:
URL:https://vslc.com.vn/cua-hang-vslc/public-courses/first-aid/khoa-hoc-so-cap-cuu-tai-hcmc-thang-8-2022/
LOCATION: Phòng 505 tầng 5 chi nhánh số 39 Trần Quốc Thảo,P Võ Thị Sáu, Q3,tp; HCM
END:VEVENT
END:VCALENDAR
