BEGIN:VCALENDAR
VERSION:2.0
PRODID:-//VSLC
CALSCALE:GREGORIAN
METHOD:PUBLISH
X-WR-CALNAME:VSLC
X-ORIGINAL-URL:https://vslc.com.vn/cua-hang-vslc/public-courses/first-aid/khoa-hoc-so-cap-cuu-tai-ha-noi/
X-WR-CALDESC:Khóa học Sơ Cấp cứu tại Hà Nội
BEGIN:VEVENT
DTSTART:20220611T130000
DTEND:20220611T183000
SUMMARY:Khóa học Sơ Cấp cứu tại Hà Nội
DESCRIPTION:
URL:https://vslc.com.vn/cua-hang-vslc/public-courses/first-aid/khoa-hoc-so-cap-cuu-tai-ha-noi/
LOCATION:The Vuon Luxury Garden, Tầng 3 - Tháp A, Phố Giảng Võ, Giảng Võ, Ba Đình, Hà Nội
END:VEVENT
END:VCALENDAR
