BEGIN:VCALENDAR
VERSION:2.0
PRODID:-//VSLC
CALSCALE:GREGORIAN
METHOD:PUBLISH
X-WR-CALNAME:VSLC
X-ORIGINAL-URL:https://vslc.com.vn/cua-hang-vslc/public-courses/first-aid/khoa-hoc-so-cap-cuu-taii-hcmc-thang1-2022/
X-WR-CALDESC:Khóa học Sơ Cấp cứu tại HCMC
BEGIN:VEVENT
DTSTART:20220115T090000
DTEND:20220115T160000
SUMMARY:Khóa học Sơ Cấp cứu tại HCMC
DESCRIPTION:
URL:https://vslc.com.vn/cua-hang-vslc/public-courses/first-aid/khoa-hoc-so-cap-cuu-taii-hcmc-thang1-2022/
LOCATION:Phòng 407 (Lầu 4), Toà nhà Vietcombank, số 79 Nguyễn Đình Chiểu, P. Võ Thị Sáu, Q.3, Tp.HCM
END:VEVENT
END:VCALENDAR
