BEGIN:VCALENDAR
VERSION:2.0
PRODID:-//VSLC
CALSCALE:GREGORIAN
METHOD:PUBLISH
X-WR-CALNAME:VSLC
X-ORIGINAL-URL:https://vslc.com.vn/cua-hang-vslc/first-aid-courses-2/khoa-dao-tao-so-cap-cuu-can-ban-cho-tre-em-va-tre-so-sinh-tai-da-nang-thang-4-2021/
X-WR-CALDESC:Khóa đào tạo Sơ cấp cứu căn bản cho Trẻ em và Trẻ sơ sinh tại Đà Nẵng
BEGIN:VEVENT
DTSTART:20210410T080000
DTEND:20210410T121500
SUMMARY:Khóa đào tạo Sơ cấp cứu căn bản cho Trẻ em và Trẻ sơ sinh tại Đà Nẵng
DESCRIPTION:
URL:https://vslc.com.vn/cua-hang-vslc/first-aid-courses-2/khoa-dao-tao-so-cap-cuu-can-ban-cho-tre-em-va-tre-so-sinh-tai-da-nang-thang-4-2021/
LOCATION:Nhà số 8 Đường Khuê Mỹ Đông 5, Phường Khuê Mỹ, Quận Ngũ Hành Sơn, Thành phố Đà Nẵng
END:VEVENT
END:VCALENDAR
