BEGIN:VCALENDAR
VERSION:2.0
PRODID:-//VSLC
CALSCALE:GREGORIAN
METHOD:PUBLISH
X-WR-CALNAME:VSLC
X-ORIGINAL-URL:https://vslc.com.vn/cua-hang-vslc/cuu-ho/khoa-hoc-cuu-ho-trong-moi-truong-nuoc-mo-tai-da-nang-thang-6-2021/
X-WR-CALDESC:Khóa học Cứu hộ trong Môi trường Nước mở tại Đà Nẵng
BEGIN:VEVENT
DTSTART:20210618T083000
DTEND:20210620T170000
SUMMARY:Khóa học Cứu hộ trong Môi trường Nước mở tại Đà Nẵng
DESCRIPTION:
URL:https://vslc.com.vn/cua-hang-vslc/cuu-ho/khoa-hoc-cuu-ho-trong-moi-truong-nuoc-mo-tai-da-nang-thang-6-2021/
LOCATION:08 Khue My Dong 5, Khue My, Da Nang
END:VEVENT
END:VCALENDAR
