BEGIN:VCALENDAR
VERSION:2.0
PRODID:-//VSLC
CALSCALE:GREGORIAN
METHOD:PUBLISH
X-WR-CALNAME:VSLC
X-ORIGINAL-URL:https://vslc.com.vn/cua-hang-vslc/first-aid-courses-2/khoa-hoc-so-cap-cuu-tai-hanoi-thang12020/
X-WR-CALDESC:Khóa học Sơ Cấp cứu tại Hà Nội
BEGIN:VEVENT
DTSTART:20210124T130000
DTEND:20210124T183000
SUMMARY:Khóa học Sơ Cấp cứu tại Hà Nội
DESCRIPTION:
URL:https://vslc.com.vn/cua-hang-vslc/first-aid-courses-2/khoa-hoc-so-cap-cuu-tai-hanoi-thang12020/
LOCATION:No 22, Alley 12/2/5 Dang Thai Mai
END:VEVENT
END:VCALENDAR
