BEGIN:VCALENDAR
VERSION:2.0
PRODID:-//VSLC
CALSCALE:GREGORIAN
METHOD:PUBLISH
X-WR-CALNAME:VSLC
X-ORIGINAL-URL:https://vslc.com.vn/cua-hang-vslc/first-aid-courses-2/emergency-first-aid-hanoi-december2020/
X-WR-CALDESC:Emergency First Aid, Hanoi
BEGIN:VEVENT
DTSTART:20201206T130000
DTEND:20201206T184500
SUMMARY:Emergency First Aid, Hanoi
DESCRIPTION:
URL:https://vslc.com.vn/cua-hang-vslc/first-aid-courses-2/emergency-first-aid-hanoi-december2020/
LOCATION:No 22, Alley 12/2/5 Dang Thai Mai
END:VEVENT
END:VCALENDAR
