BEGIN:VCALENDAR
VERSION:2.0
PRODID:-//VSLC
CALSCALE:GREGORIAN
METHOD:PUBLISH
X-WR-CALNAME:VSLC
X-ORIGINAL-URL:https://vslc.com.vn/cua-hang-vslc/first-aid-courses-2/emergency-first-aid-hanoi-november-2020/
X-WR-CALDESC:Emergency First Aid, Hanoi
BEGIN:VEVENT
DTSTART:20201108T124500
DTEND:20201108T184500
SUMMARY:Emergency First Aid, Hanoi
DESCRIPTION:
URL:https://vslc.com.vn/cua-hang-vslc/first-aid-courses-2/emergency-first-aid-hanoi-november-2020/
LOCATION:The Fitness Village, No. 68, Alley 50, Lane 310 Nghi Tam Street, Tay Ho District, Hanoi, Vietnam
END:VEVENT
END:VCALENDAR
