BEGIN:VCALENDAR
VERSION:2.0
PRODID:-//VSLC
CALSCALE:GREGORIAN
METHOD:PUBLISH
X-WR-CALNAME:VSLC
X-ORIGINAL-URL:https://vslc.com.vn/cua-hang-vslc/first-aid-courses-2/emergency-first-aid-hcmc-october-2020/
X-WR-CALDESC:Emergency First Aid, HCMC
BEGIN:VEVENT
DTSTART:20201018T090000
DTEND:20201018T160000
SUMMARY:Emergency First Aid, HCMC
DESCRIPTION:
URL:https://vslc.com.vn/cua-hang-vslc/first-aid-courses-2/emergency-first-aid-hcmc-october-2020/
LOCATION:Exciter Sports, 125 Đồng Văn Cống, Phường Thạnh Mỹ Lợi, Quận 2 Ho Chi Minh City, Vietnam
END:VEVENT
END:VCALENDAR
