BEGIN:VCALENDAR
VERSION:2.0
PRODID:-//VSLC
CALSCALE:GREGORIAN
METHOD:PUBLISH
X-WR-CALNAME:VSLC
X-ORIGINAL-URL:https://vslc.com.vn/cua-hang-vslc/first-aid-courses-2/emergency-first-aid-hcmc-march-2020/
X-WR-CALDESC:Emergency First Aid, HCMC
BEGIN:VEVENT
DTSTART:20200321T090000
DTEND:20200321T160000
SUMMARY:Emergency First Aid, HCMC
DESCRIPTION:
URL:https://vslc.com.vn/cua-hang-vslc/first-aid-courses-2/emergency-first-aid-hcmc-march-2020/
LOCATION:Platinum Fitness, 105 Tôn Dật Tiên, P. Tân Phú, Q.7, TP.HCM
END:VEVENT
END:VCALENDAR
