BEGIN:VCALENDAR
VERSION:2.0
PRODID:-//VSLC
CALSCALE:GREGORIAN
METHOD:PUBLISH
X-WR-CALNAME:VSLC
X-ORIGINAL-URL:https://vslc.com.vn/cua-hang-vslc/first-aid-courses-2/so-cap-cuu-cho-gia-dinh-hoi-an-thanh-9-2019/
X-WR-CALDESC:Sơ cấp cứu cho gia đình, Hoi An
BEGIN:VEVENT
DTSTART:20190901T090000
DTEND:20190901T163000
SUMMARY:Sơ cấp cứu cho gia đình, Hoi An
DESCRIPTION:
URL:https://vslc.com.vn/cua-hang-vslc/first-aid-courses-2/so-cap-cuu-cho-gia-dinh-hoi-an-thanh-9-2019/
LOCATION:Nomad Yoga, 22 Nguyễn Du, Phường Minh An, Hội An, Quảng Nam
END:VEVENT
END:VCALENDAR
